BEGIN:VCALENDAR
VERSION:2.0
PRODID:icalendar-ruby
CALSCALE:GREGORIAN
METHOD:PUBLISH
BEGIN:VEVENT
DTSTAMP:20260422T135017Z
UID:146-42675@clcmorganton.org
DTSTART:20260510T143000Z
DTEND:20260510T153000Z
CLASS:PUBLIC
CREATED:20260421T092416
DESCRIPTION:Come join us for a special service on Sunday\, May 10th as the 
 Calvary Youth take over the sanctuary for Youth Sunday!
LAST-MODIFIED:20260421T092416
LOCATION:
SUMMARY:YOUTH SUNDAY
URL;VALUE=URI:https://www.clcmorganton.org/events/youth-sunday/2026-05-10
ATTACH;FILENAME=1000001713a.jpg;FMTTYPE=image/jpeg:https://dq5pwpg1q8ru0.cl
 oudfront.net/2026/04/21/13/24/15/14095345-7c72-4e72-ae17-c47eebc4719c/1000
 001713a.jpg
END:VEVENT
END:VCALENDAR
