BEGIN:VCALENDAR
VERSION:2.0
PRODID:icalendar-ruby
CALSCALE:GREGORIAN
METHOD:PUBLISH
BEGIN:VEVENT
DTSTAMP:20260422T134710Z
UID:147-42676@clcmorganton.org
DTSTART:20260523T130000Z
DTEND:20260523T160000Z
CLASS:PUBLIC
CREATED:20260421T092752
DESCRIPTION:Mark your calendars for our upcoming Habitat Work Day on Saturd
 ay\, May 23rd.  Stay tuned for more information!
LAST-MODIFIED:20260421T092752
LOCATION:
SUMMARY:Habitat for Humanity Workday
URL;VALUE=URI:https://www.clcmorganton.org/events/habitat-for-humanity-work
 day--147/2026-05-23
ATTACH;FILENAME=habitat-for-humanity1.gif;FMTTYPE=image/gif:https://dq5pwpg
 1q8ru0.cloudfront.net/2026/04/21/13/27/52/c9c246a4-584c-4e6b-b38f-b3ad8ce8
 b739/habitat-for-humanity1.gif
END:VEVENT
END:VCALENDAR
