BEGIN:VCALENDAR
VERSION:2.0
PRODID:icalendar-ruby
CALSCALE:GREGORIAN
METHOD:PUBLISH
BEGIN:VEVENT
DTSTAMP:20260422T151707Z
UID:145-42674@clcmorganton.org
DTSTART:20260529T170000Z
DTEND:20260529T220000Z
CLASS:PUBLIC
CREATED:20260421T092108
DESCRIPTION:Calvary Lutheran Church and the American Red Cross are hosting 
 an upcoming blood drive.\nPlease join our lifesaving mission and schedule 
 an appointment today!  HERE
LAST-MODIFIED:20260421T092108
LOCATION:
SUMMARY:BLOOD DRIVE
URL;VALUE=URI:https://www.clcmorganton.org/events/blood-drive--145/2026-05-
 29
ATTACH;FILENAME=Calvary-Lutheran-Church-May-29th-Blood-Drive-Social-Media-F
 lyer.jpg;FMTTYPE=image/jpeg:https://dq5pwpg1q8ru0.cloudfront.net/2026/04/2
 1/13/21/08/74b55aa4-a1f1-488d-9eb2-3ad75fde3ba9/Calvary-Lutheran-Church-Ma
 y-29th-Blood-Drive-Social-Media-Flyer.jpg
END:VEVENT
END:VCALENDAR
